Workbook

Sheet Оценка_6 мес
A2: РАСЧЕТ размера стимулирующих выплат с учетом показателей результативности деятельности медицинских организаций
A3: за декабрь 2025 года - май 2026 года
A6: № п/п | B6: Наименование медицинской организации | C6: Код МО | D6: Оценка по баллам | J6: Среднемесячная численность прикрепленного населения за отчетный период | K6: Размер стимулирующих выплат медицинским организациям (I часть), рублей | N6: Размер стимулирующих выплат медицинским организациям (II часть), рублей | Q6: Размер стимулирующих выплат, начисленных медицинским организациям (I и II части) за отчетный период, рублей | T6: Выполнение плана посещений с проф и иными целями и обращений по заболеванию, % | U6: Коэффициент с учетом выполнения установленных объемов (К об) | V6: Показатель смертности, "-" снижение, "+" увеличение, % | W6: Коэффициент с учетом выполнения показателя смертности (К см) | X6: Размер стимулирующих выплат с учетом показателей результативности деятельности медицинских организаций и выполнения показателей по утвержденным объемам и показателей смертности прикрепленного населения, рублей | AA6: Отклонение: гр.17 - гр.24, рублей | AB6: Доля размера выплаты в общем объеме средств, коэффициент | AC6: Дополнительное распределение средств, предусмотренных на стимулирующие выплаты, рублей | AF6: ИТОГОВЫЙ размер стимулирующих выплат с учетом показателей результативности деятельности медицинских организаций, выполнения показателей установленных объемов, показателей смертности прикрепленного населения и дополнительного распределения средств, рублей | AI6: Коментарий к сумме стимулирующих выплат
D7: Максимальная сумма баллов | E7: Фактическая сумма баллов | F7: Максимальное количество показателей | G7: Фактически выполнено показателей | H7: Выполнение показателей, % | I7: Группа | K7: Всего | L7: СОГАЗ | M7: АЛЬФА | N7: Всего | O7: СОГАЗ | P7: АЛЬФА | Q7: Всего | R7: СОГАЗ | S7: АЛЬФА | X7: Всего | Y7: СОГАЗ | Z7: АЛЬФА | AC7: Всего | AD7: СОГАЗ | AE7: АЛЬФА | AF7: Всего | AG7: СОГАЗ | AH7: АЛЬФА
A8: 1 | B8: =A8+1 -> 2 | C8: =B8+1 -> 3 | D8: =C8+1 -> 4 | E8: =D8+1 -> 5 | F8: =E8+1 -> 6 | G8: =F8+1 -> 7 | H8: =G8+1 -> 8 | I8: =H8+1 -> 9 | ... AI8: =AH8+1 -> 35
A9: 1 | B9: ГОБУЗ "МОКБ" | C9: 041 | D9: ='[1]041'!$E$4 -> 140 | E9: ='[1]041'!$S$4 -> 67 | F9: ='[1]041'!$V$6 -> 33 | G9: ='[1]041'!$T$5 -> 19 | H9: ='[1]041'!$T$4 -> 57.575758 | I9: ='[1]041'!$U$4 -> 2 | J9: =[2]Численность!AN8 -> 306566 | K9: =ROUND(IF(OR(I9=2,I9=3),$J$26*J9,0),2) -> 8459599.9 | L9: =ROUND(K9/J9*[2]Численность!AO8,2) -> 4325277.7 | M9: =K9-L9 -> 4134322.3 | N9: =ROUND(IF(AND($J$23=0,I9=2),$L$26/$J$22*J9,IF(AND($J$23>0,I9=3),$N$26*E9,0)),2) -> 0 | O9: =ROUND(N9/J9*[2]Численность!AO8,2) -> 0 | P9: =N9-O9 -> 0 | Q9: =R9+S9 -> 8459599.9 | R9: =L9+O9 -> 4325277.7 | S9: =M9+P9 -> 4134322.3 | T9: =[2]Выполнение_объемов!N9 -> 88 | U9: =IF(T9>=90,1,IF(AND(T9>=70,T9<=89),0.9,IF(AND(T9>=60,T9<=69),0.75,IF(AND(T9>=50,T9<=59),0.5,IF(T9<50,0))))) -> 0.9 | V9: ='[2]Выполнение показ смертности'!Q7 -> 3 | W9: ='[2]Выполнение показ смертности'!R7 -> 0.95 | X9: =Y9+Z9 -> 7232957.9 | Y9: =ROUND(R9*U9*W9,2) -> 3698112.4 | Z9: =ROUND(S9*U9*W9,2) -> 3534845.5 | AA9: =Q9-X9 -> 1226642 | AB9: =IFERROR(X9/$X$19,0) -> 0.35877788 | AC9: =ROUND(IF(AND($X$20>0,X9>0),$X$20*AB9,0),2) -> 1748291.5 | AD9: =ROUND(AC9/J9*[2]Численность!AO8,2) -> 893877.54 | AE9: =AC9-AD9 -> 854414 | AF9: =AG9+AH9 -> 8981249.5 | AG9: =Y9+AD9 -> 4591989.9 | AH9: =Z9+AE9 -> 4389259.5 | AI9: 2 группа К об = 0,9 К см = 0,95
A10: =A9+1 -> 2 | B10: ГОАУЗ "МОМЦ" | C10: 062 | D10: ='[1]062'!$E$4 -> 105 | E10: ='[1]062'!$S$4 -> 62 | F10: ='[1]062'!$V$6 -> 27 | G10: ='[1]062'!$T$5 -> 17 | H10: ='[1]062'!$T$4 -> 62.962963 | I10: ='[1]062'!$U$4 -> 3 | J10: =[2]Численность!AN9 -> 199898 | K10: =ROUND(IF(OR(I10=2,I10=3),$J$26*J10,0),2) -> 5516127.4 | L10: =ROUND(K10/J10*[2]Численность!AO9,2) -> 4257643 | M10: =K10-L10 -> 1258484.3 | N10: =ROUND(IF(AND($J$23=0,I10=2),$L$26/$J$22*J10,IF(AND($J$23>0,I10=3),$N$26*E10,0)),2) -> 1693134.1 | O10: =ROUND(N10/J10*[2]Численность!AO9,2) -> 1306851.7 | P10: =N10-O10 -> 386282.37 | Q10: =R10+S10 -> 7209261.5 | R10: =L10+O10 -> 5564494.7 | S10: =M10+P10 -> 1644766.7 | T10: =[2]Выполнение_объемов!N10 -> 93 | U10: =IF(T10>=90,1,IF(AND(T10>=70,T10<=89),0.9,IF(AND(T10>=60,T10<=69),0.75,IF(AND(T10>=50,T10<=59),0.5,IF(T10<50,0))))) -> 1 | V10: ='[2]Выполнение показ смертности'!Q8 -> -8.1 | W10: ='[2]Выполнение показ смертности'!R8 -> 1 | X10: =Y10+Z10 -> 7209261.5 | Y10: =ROUND(R10*U10*W10,2) -> 5564494.7 | Z10: =ROUND(S10*U10*W10,2) -> 1644766.7 | AA10: =Q10-X10 -> 0 | AB10: =IFERROR(X10/$X$19,0) -> 0.35760246 | AC10: =ROUND(IF(AND($X$20>0,X10>0),$X$20*AB10,0),2) -> 1742563.8 | AD10: =ROUND(AC10/J10*[2]Численность!AO9,2) -> 1345004.2 | AE10: =AC10-AD10 -> 397559.58 | AF10: =AG10+AH10 -> 8951825.3 | AG10: =Y10+AD10 -> 6909499 | AH10: =Z10+AE10 -> 2042326.3 | AI10: 3 группа К об = 1,0 К см = 1,00
A11: =A10+1 -> 3 | B11: ГОБУЗ "МОДКБ" | C11: 033 | D11: ='[1]033'!$E$4 -> 66 | E11: ='[1]033'!$S$4 -> 55 | F11: ='[1]033'!$V$6 -> 12 | G11: ='[1]033'!$T$5 -> 10 | H11: ='[1]033'!$T$4 -> 83.333333 | I11: ='[1]033'!$U$4 -> 3 | J11: =[2]Численность!AN10 -> 50960 | K11: =ROUND(IF(OR(I11=2,I11=3),$J$26*J11,0),2) -> 1406226.4 | L11: =ROUND(K11/J11*[2]Численность!AO10,2) -> 1113170.6 | M11: =K11-L11 -> 293055.82 | N11: =ROUND(IF(AND($J$23=0,I11=2),$L$26/$J$22*J11,IF(AND($J$23>0,I11=3),$N$26*E11,0)),2) -> 1501973.8 | O11: =ROUND(N11/J11*[2]Численность!AO10,2) -> 1188964.3 | P11: =N11-O11 -> 313009.45 | Q11: =R11+S11 -> 2908200.2 | R11: =L11+O11 -> 2302134.9 | S11: =M11+P11 -> 606065.27 | T11: =[2]Выполнение_объемов!N11 -> 105 | U11: =IF(T11>=90,1,IF(AND(T11>=70,T11<=89),0.9,IF(AND(T11>=60,T11<=69),0.75,IF(AND(T11>=50,T11<=59),0.5,IF(T11<50,0))))) -> 1 | V11: ='[2]Выполнение показ смертности'!Q9 -> 55.464274 | W11: ='[2]Выполнение показ смертности'!R9 -> 0 | X11: =Y11+Z11 -> 0 | Y11: =ROUND(R11*U11*W11,2) -> 0 | Z11: =ROUND(S11*U11*W11,2) -> 0 | AA11: =Q11-X11 -> 2908200.2 | AB11: =IFERROR(X11/$X$19,0) -> 0 | AC11: =ROUND(IF(AND($X$20>0,X11>0),$X$20*AB11,0),2) -> 0 | AD11: =ROUND(AC11/J11*[2]Численность!AO10,2) -> 0 | AE11: =AC11-AD11 -> 0 | AF11: =AG11+AH11 -> 0 | AG11: =Y11+AD11 -> 0 | AH11: =Z11+AE11 -> 0 | AI11: 3 группа К об = 1,00 К см = 0,00
A12: =A11+1 -> 4 | B12: ФГБУЗ "ММЦ" ФМБА | C12: 030 | D12: ='[1]030'!$E$4 -> 140 | E12: ='[1]030'!$S$4 -> 61 | F12: ='[1]030'!$V$6 -> 33 | G12: ='[1]030'!$T$5 -> 14 | H12: ='[1]030'!$T$4 -> 42.424242 | I12: ='[1]030'!$U$4 -> 2 | J12: =[2]Численность!AN11 -> 17215 | K12: =ROUND(IF(OR(I12=2,I12=3),$J$26*J12,0),2) -> 475042.94 | L12: =ROUND(K12/J12*[2]Численность!AO11,2) -> 249207.83 | M12: =K12-L12 -> 225835.11 | N12: =ROUND(IF(AND($J$23=0,I12=2),$L$26/$J$22*J12,IF(AND($J$23>0,I12=3),$N$26*E12,0)),2) -> 0 | O12: =ROUND(N12/J12*[2]Численность!AO11,2) -> 0 | P12: =N12-O12 -> 0 | Q12: =R12+S12 -> 475042.94 | R12: =L12+O12 -> 249207.83 | S12: =M12+P12 -> 225835.11 | T12: =[2]Выполнение_объемов!N12 -> 101 | U12: =IF(T12>=90,1,IF(AND(T12>=70,T12<=89),0.9,IF(AND(T12>=60,T12<=69),0.75,IF(AND(T12>=50,T12<=59),0.5,IF(T12<50,0))))) -> 1 | V12: ='[2]Выполнение показ смертности'!Q10 -> -25 | W12: ='[2]Выполнение показ смертности'!R10 -> 1 | X12: =Y12+Z12 -> 475042.94 | Y12: =ROUND(R12*U12*W12,2) -> 249207.83 | Z12: =ROUND(S12*U12*W12,2) -> 225835.11 | AA12: =Q12-X12 -> 0 | AB12: =IFERROR(X12/$X$19,0) -> 0.023563652 | AC12: =ROUND(IF(AND($X$20>0,X12>0),$X$20*AB12,0),2) -> 114823.5 | AD12: =ROUND(AC12/J12*[2]Численность!AO11,2) -> 60236.48 | AE12: =AC12-AD12 -> 54587.02 | AF12: =AG12+AH12 -> 589866.44 | AG12: =Y12+AD12 -> 309444.31 | AH12: =Z12+AE12 -> 280422.13 | AI12: 2 группа К об = 1,0 К см = 1,0
A13: =A12+1 -> 5 | B13: ФГБУЗ "МСЧ № 118" ФМБА | C13: 037 | D13: ='[1]037'!$E$4 -> 140 | E13: ='[1]037'!$S$4 -> 71.5 | F13: ='[1]037'!$V$6 -> 33 | G13: ='[1]037'!$T$5 -> 18 | H13: ='[1]037'!$T$4 -> 54.545455 | I13: ='[1]037'!$U$4 -> 2 | J13: =[2]Численность!AN12 -> 15051 | K13: =ROUND(IF(OR(I13=2,I13=3),$J$26*J13,0),2) -> 415327.98 | L13: =ROUND(K13/J13*[2]Численность!AO12,2) -> 351970.53 | M13: =K13-L13 -> 63357.45 | N13: =ROUND(IF(AND($J$23=0,I13=2),$L$26/$J$22*J13,IF(AND($J$23>0,I13=3),$N$26*E13,0)),2) -> 0 | O13: =ROUND(N13/J13*[2]Численность!AO12,2) -> 0 | P13: =N13-O13 -> 0 | Q13: =R13+S13 -> 415327.98 | R13: =L13+O13 -> 351970.53 | S13: =M13+P13 -> 63357.45 | T13: =[2]Выполнение_объемов!N13 -> 71 | U13: =IF(T13>=90,1,IF(AND(T13>=70,T13<=89),0.9,IF(AND(T13>=60,T13<=69),0.75,IF(AND(T13>=50,T13<=59),0.5,IF(T13<50,0))))) -> 0.9 | V13: ='[2]Выполнение показ смертности'!Q11 -> 37 | W13: ='[2]Выполнение показ смертности'!R11 -> 0 | X13: =Y13+Z13 -> 0 | Y13: =ROUND(R13*U13*W13,2) -> 0 | Z13: =ROUND(S13*U13*W13,2) -> 0 | AA13: =Q13-X13 -> 415327.98 | AB13: =IFERROR(X13/$X$19,0) -> 0 | AC13: =ROUND(IF(AND($X$20>0,X13>0),$X$20*AB13,0),2) -> 0 | AD13: =ROUND(AC13/J13*[2]Численность!AO12,2) -> 0 | AE13: =AC13-AD13 -> 0 | AF13: =AG13+AH13 -> 0 | AG13: =Y13+AD13 -> 0 | AH13: =Z13+AE13 -> 0 | AI13: 2 группа К об = 0,9 К см = 0,00
A14: =A13+1 -> 6 | B14: ФГБУЗ "ЦМСЧ № 120" ФМБА | C14: 038 | D14: ='[1]038'!$E$4 -> 140 | E14: ='[1]038'!$S$4 -> 91.5 | F14: ='[1]038'!$V$6 -> 33 | G14: ='[1]038'!$T$5 -> 22 | H14: ='[1]038'!$T$4 -> 66.666667 | I14: ='[1]038'!$U$4 -> 3 | J14: =[2]Численность!AN13 -> 30475 | K14: =ROUND(IF(OR(I14=2,I14=3),$J$26*J14,0),2) -> 840948.79 | L14: =ROUND(K14/J14*[2]Численность!AO13,2) -> 258507.24 | M14: =K14-L14 -> 582441.55 | N14: =ROUND(IF(AND($J$23=0,I14=2),$L$26/$J$22*J14,IF(AND($J$23>0,I14=3),$N$26*E14,0)),2) -> 2498738.2 | O14: =ROUND(N14/J14*[2]Численность!AO13,2) -> 768110.89 | P14: =N14-O14 -> 1730627.3 | Q14: =R14+S14 -> 3339687 | R14: =L14+O14 -> 1026618.1 | S14: =M14+P14 -> 2313068.8 | T14: =[2]Выполнение_объемов!N14 -> 90 | U14: =IF(T14>=90,1,IF(AND(T14>=70,T14<=89),0.9,IF(AND(T14>=60,T14<=69),0.75,IF(AND(T14>=50,T14<=59),0.5,IF(T14<50,0))))) -> 1 | V14: ='[2]Выполнение показ смертности'!Q12 -> -32 | W14: ='[2]Выполнение показ смертности'!R12 -> 1 | X14: =Y14+Z14 -> 3339687 | Y14: =ROUND(R14*U14*W14,2) -> 1026618.1 | Z14: =ROUND(S14*U14*W14,2) -> 2313068.8 | AA14: =Q14-X14 -> 0 | AB14: =IFERROR(X14/$X$19,0) -> 0.16565917 | AC14: =ROUND(IF(AND($X$20>0,X14>0),$X$20*AB14,0),2) -> 807241.87 | AD14: =ROUND(AC14/J14*[2]Численность!AO13,2) -> 248145.75 | AE14: =AC14-AD14 -> 559096.12 | AF14: =AG14+AH14 -> 4146928.8 | AG14: =Y14+AD14 -> 1274763.9 | AH14: =Z14+AE14 -> 2872165 | AI14: 3 группа К об = 1,0 К см = 1,00
A15: =A14+1 -> 7 | B15: ФГБУН "КНЦ РАН" | C15: 050 | D15: ='[1]050'!$E$4 -> 105 | E15: ='[1]050'!$S$4 -> 54.5 | F15: ='[1]050'!$V$6 -> 27 | G15: ='[1]050'!$T$5 -> 15 | H15: ='[1]050'!$T$4 -> 55.555556 | I15: ='[1]050'!$U$4 -> 2 | J15: =[2]Численность!AN14 -> 5784 | K15: =ROUND(IF(OR(I15=2,I15=3),$J$26*J15,0),2) -> 159607.8 | L15: =ROUND(K15/J15*[2]Численность!AO14,2) -> 112393.25 | M15: =K15-L15 -> 47214.55 | N15: =ROUND(IF(AND($J$23=0,I15=2),$L$26/$J$22*J15,IF(AND($J$23>0,I15=3),$N$26*E15,0)),2) -> 0 | O15: =ROUND(N15/J15*[2]Численность!AO14,2) -> 0 | P15: =N15-O15 -> 0 | Q15: =R15+S15 -> 159607.8 | R15: =L15+O15 -> 112393.25 | S15: =M15+P15 -> 47214.55 | T15: =[2]Выполнение_объемов!N15 -> 80 | U15: =IF(T15>=90,1,IF(AND(T15>=70,T15<=89),0.9,IF(AND(T15>=60,T15<=69),0.75,IF(AND(T15>=50,T15<=59),0.5,IF(T15<50,0))))) -> 0.9 | V15: ='[2]Выполнение показ смертности'!Q13 -> 1 | W15: ='[2]Выполнение показ смертности'!R13 -> 0.95 | X15: =Y15+Z15 -> 136464.67 | Y15: =ROUND(R15*U15*W15,2) -> 96096.23 | Z15: =ROUND(S15*U15*W15,2) -> 40368.44 | AA15: =Q15-X15 -> 23143.13 | AB15: =IFERROR(X15/$X$19,0) -> 0.0067690848 | AC15: =ROUND(IF(AND($X$20>0,X15>0),$X$20*AB15,0),2) -> 32985.13 | AD15: =ROUND(AC15/J15*[2]Численность!AO14,2) -> 23227.6 | AE15: =AC15-AD15 -> 9757.53 | AF15: =AG15+AH15 -> 169449.8 | AG15: =Y15+AD15 -> 119323.83 | AH15: =Z15+AE15 -> 50125.97 | AI15: 2 группа К об = 0,9 К см = 0,95
A16: =A15+1 -> 8 | B16: ФКУЗ "МСЧ МВД" | C16: 168 | D16: ='[1]168'!$E$4 -> 86 | E16: ='[1]168'!$S$4 -> 33 | F16: ='[1]168'!$V$6 -> 24 | G16: ='[1]168'!$T$5 -> 7 | H16: ='[1]168'!$T$4 -> 29.166667 | I16: ='[1]168'!$U$4 -> 1 | J16: =[2]Численность!AN15 -> 2333 | K16: =ROUND(IF(OR(I16=2,I16=3),$J$26*J16,0),2) -> 0 | L16: =ROUND(K16/J16*[2]Численность!AO15,2) -> 0 | M16: =K16-L16 -> 0 | N16: =ROUND(IF(AND($J$23=0,I16=2),$L$26/$J$22*J16,IF(AND($J$23>0,I16=3),$N$26*E16,0)),2) -> 0 | O16: =ROUND(N16/J16*[2]Численность!AO15,2) -> 0 | P16: =N16-O16 -> 0 | Q16: =R16+S16 -> 0 | R16: =L16+O16 -> 0 | S16: =M16+P16 -> 0 | T16: =[2]Выполнение_объемов!N16 -> 1 | U16: =IF(T16>=90,1,IF(AND(T16>=70,T16<=89),0.9,IF(AND(T16>=60,T16<=69),0.75,IF(AND(T16>=50,T16<=59),0.5,IF(T16<50,0))))) -> 0 | V16: ='[2]Выполнение показ смертности'!Q14 -> 12 | W16: ='[2]Выполнение показ смертности'!R14 -> 0.8 | X16: =Y16+Z16 -> 0 | Y16: =ROUND(R16*U16*W16,2) -> 0 | Z16: =ROUND(S16*U16*W16,2) -> 0 | AA16: =Q16-X16 -> 0 | AB16: =IFERROR(X16/$X$19,0) -> 0 | AC16: =ROUND(IF(AND($X$20>0,X16>0),$X$20*AB16,0),2) -> 0 | AD16: =ROUND(AC16/J16*[2]Численность!AO15,2) -> 0 | AE16: =AC16-AD16 -> 0 | AF16: =AG16+AH16 -> 0 | AG16: =Y16+AD16 -> 0 | AH16: =Z16+AE16 -> 0 | AI16: 1 группа
A17: =A16+1 -> 9 | B17: ЧУЗ "ПК РЖД" г.Мурманск | C17: 051 | D17: ='[1]051'!$E$4 -> 105 | E17: ='[1]051'!$S$4 -> 66.5 | F17: ='[1]051'!$V$6 -> 27 | G17: ='[1]051'!$T$5 -> 18 | H17: ='[1]051'!$T$4 -> 66.666667 | I17: ='[1]051'!$U$4 -> 3 | J17: =[2]Численность!AN16 -> 9065 | K17: =ROUND(IF(OR(I17=2,I17=3),$J$26*J17,0),2) -> 250146.05 | L17: =ROUND(K17/J17*[2]Численность!AO16,2) -> 114186.91 | M17: =K17-L17 -> 135959.14 | N17: =ROUND(IF(AND($J$23=0,I17=2),$L$26/$J$22*J17,IF(AND($J$23>0,I17=3),$N$26*E17,0)),2) -> 1816022.8 | O17: =ROUND(N17/J17*[2]Численность!AO16,2) -> 828979.86 | P17: =N17-O17 -> 987042.97 | Q17: =R17+S17 -> 2066168.9 | R17: =L17+O17 -> 943166.77 | S17: =M17+P17 -> 1123002.1 | T17: =[2]Выполнение_объемов!N17 -> 84 | U17: =IF(T17>=90,1,IF(AND(T17>=70,T17<=89),0.9,IF(AND(T17>=60,T17<=69),0.75,IF(AND(T17>=50,T17<=59),0.5,IF(T17<50,0))))) -> 0.9 | V17: ='[2]Выполнение показ смертности'!Q15 -> 5 | W17: ='[2]Выполнение показ смертности'!R15 -> 0.95 | X17: =Y17+Z17 -> 1766574.4 | Y17: =ROUND(R17*U17*W17,2) -> 806407.59 | Z17: =ROUND(S17*U17*W17,2) -> 960166.8 | AA17: =Q17-X17 -> 299594.49 | AB17: =IFERROR(X17/$X$19,0) -> 0.087627749 | AC17: =ROUND(IF(AND($X$20>0,X17>0),$X$20*AB17,0),2) -> 427001.94 | AD17: =ROUND(AC17/J17*[2]Численность!AO16,2) -> 194918.26 | AE17: =AC17-AD17 -> 232083.68 | AF17: =AG17+AH17 -> 2193576.3 | AG17: =Y17+AD17 -> 1001325.8 | AH17: =Z17+AE17 -> 1192250.5 | AI17: 3 группа К об = 0,9 К см = 0,95
B19: ИТОГО | D19: =SUM(D9:D17) -> 1027 | E19: =SUM(E9:E17) -> 562 | F19: =SUM(F9:F17) -> 249 | G19: =SUM(G9:G17) -> 140 | H19: =G19/F19*100 -> 56.2249 | J19: =SUM(J9:J18) -> 637347 | K19: =L19+M19 -> 17523027 | L19: =SUM(L9:L18) -> 10782357 | M19: =SUM(M9:M18) -> 6740670.2 | N19: =O19+P19 -> 7509868.9 | O19: =SUM(O9:O18) -> 4092906.8 | P19: =SUM(P9:P18) -> 3416962.1 | Q19: =R19+S19 -> 25032896 | R19: =SUM(R9:R18) -> 14875264 | S19: =SUM(S9:S18) -> 10157632 | T19: =[2]Выполнение_объемов!N27 -> 0 | V19: ='[2]Выполнение показ смертности'!Q17 -> -2.42 | X19: =Y19+Z19 -> 20159988 | Y19: =SUM(Y9:Y17) -> 11440937 | Z19: =SUM(Z9:Z17) -> 8719051.5 | AA19: =SUM(AA9:AA17) -> 4872907.8 | AC19: =SUM(AC9:AC17) -> 4872907.8 | AF19: =SUM(AF9:AF17) -> 25032896 | AG19: =SUM(AG9:AG17) -> 14206347 | AH19: =SUM(AH9:AH17) -> 10826549
B20: Нераспределенная сумма, рублей | X20: =B26-X19 -> 4872907.8 | AC20: =AC19-X20 -> 0 | AF20: =AF19-B26 -> 0
B21: 1 группа | D21: =SUMIF($I$9:$I$18,1,$D$9:$D$18) -> 86 | E21: =SUMIF($I$9:$I$18,1,$E$9:$E$18) -> 33 | F21: =SUMIF($I$9:$I$18,1,$F$9:$F$18) -> 24 | G21: =SUMIF($I$9:$I$18,1,$G$9:$G$18) -> 7 | J21: =SUMIF($I$9:$I$18,1,$J$9:$J$18) -> 2333
B22: 2 группа | D22: =SUMIF($I$9:$I$18,2,$D$9:$D$18) -> 525 | E22: =SUMIF($I$9:$I$18,2,$E$9:$E$18) -> 254 | F22: =SUMIF($I$9:$I$18,2,$F$9:$F$18) -> 126 | G22: =SUMIF($I$9:$I$18,2,$G$9:$G$18) -> 66 | J22: =SUMIF($I$9:$I$18,2,$J$9:$J$18) -> 344616
B23: 3 группа | D23: =SUMIF($I$9:$I$18,3,$D$9:$D$18) -> 416 | E23: =SUMIF($I$9:$I$18,3,$E$9:$E$18) -> 275 | F23: =SUMIF($I$9:$I$18,3,$F$9:$F$18) -> 99 | G23: =SUMIF($I$9:$I$18,3,$G$9:$G$18) -> 67 | J23: =SUMIF($I$9:$I$18,3,$J$9:$J$18) -> 290398
B25: Cовокупный объем средств на стимулирование медицинских организаций, рублей | C25: Объем средств, используемый при распределении 70% от объема средств на стимулирование медицинских организаций (I часть), рублей | H25: Объем средств, используемый при распределении 70% от утвержденной суммы на стимулирование медицинских организаций, в расчете на 1 прикрепленное лицо (I часть), рублей | K25: Объем средств, используемый при распределении 30% от объема средств на стимулирование медицинских организаций (II часть), рублей | M25: Объем средств, используемый при распределении 30% от объема средств на стимулирование медицинских организаций, в расчете на 1 балл (II часть), рублей
B26: =[2]Стим_Запланировано!D17 -> 25032896 | E26: =ROUND(B26*0.7,2) -> 17523027 | J26: =IFERROR(E26/(J22+J23),0) -> 27.59471 | L26: =B26-E26 -> 7509868.9 | N26: =IFERROR($L$26/$E$23,0) -> 27308.614
